BEGIN:VCALENDAR
VERSION:2.0
PRODID:-//wp-events-plugin.com//7.2.3.1//EN
TZID:Europe/Berlin
X-WR-TIMEZONE:Europe/Berlin
BEGIN:VEVENT
UID:24@asv-greifswald.de
DTSTART;TZID=Europe/Berlin:20231208T193000
DTEND;TZID=Europe/Berlin:20231208T234500
DTSTAMP:20231130T000805Z
URL:https://asv-greifswald.de/events/weihnachtsfeier/
SUMMARY:Weihnachtsfeier
DESCRIPTION:Das Jahr neigt sich so langsam dem Ende zu. Um aber nochmal in 
 geselliger Runde zusammen zu kommen\, laden wir herzlich zu unserer Weihna
 chtsfeier am 08.12. um 19:30 Uhr ins Schilfhaus ein.\n\nWie im letzten Jah
 r freuen wir uns schon sehr auf eure kulinarischen Kreationen - tragt euch
  dazu gern in die Mitbringliste ein\, damit wir auch in diesem Jahr wieder
  das beste Gericht küren können.\n\nFür Glühwein und andere alkoholisc
 he\, sowie nicht alkoholische Getränke ist gesorgt\, die ihr wie immer f
 ür einen kleinen Obulus erwerben könnt.\n\nAnsonsten erwartet euch Schro
 ttwichteln\, weihnachtliche Musik und eine gemütliche gemeinsame Zeit.
ATTACH;FMTTYPE=image/jpeg:https://asv-greifswald.de/wp-content/uploads/202
 3/11/image0-3.jpeg
CATEGORIES:Studierende
LOCATION:Schilfhaus\, Yachtweg 4\, Greifswald\, Deutschland
X-APPLE-STRUCTURED-LOCATION;VALUE=URI;X-ADDRESS=Yachtweg 4\, Greifswald\, D
 eutschland;X-APPLE-RADIUS=100;X-TITLE=Schilfhaus:geo:0,0
END:VEVENT
BEGIN:VTIMEZONE
TZID:Europe/Berlin
X-LIC-LOCATION:Europe/Berlin
BEGIN:STANDARD
DTSTART:20231029T020000
TZOFFSETFROM:+0200
TZOFFSETTO:+0100
TZNAME:CET
END:STANDARD
END:VTIMEZONE
END:VCALENDAR