BEGIN:VCALENDAR
VERSION:2.0
PRODID:-//wp-events-plugin.com//7.2.3.1//EN
TZID:Europe/Berlin
X-WR-TIMEZONE:Europe/Berlin
BEGIN:VEVENT
UID:136@asv-greifswald.de
DTSTART;TZID=Europe/Berlin:20241213T190000
DTEND;TZID=Europe/Berlin:20241213T234500
DTSTAMP:20241125T191635Z
URL:https://asv-greifswald.de/events/weihnachtsfeier-2/
SUMMARY:Weihnachtsfeier
DESCRIPTION:Wir laden Euch herzlich zu unserer Weihnachtsfeier am 13.12.202
 4 um 19 Uhr in das Gemeindehaus in Wieck in der Kirchstr. 30 ein.\n\nDort 
 wollen wir es uns passend zur Weihnachtszeit schön gemütlich machen\, Gl
 ühwein schlürfen und bei gutem Essen schnacken.\n\nBringt uns dafür ger
 ne etwas für das Buffet mit. Auch in diesem Jahr soll wieder das beste Es
 sen mit einem kleinen Preis gekürt werden. Für Getränke sorgen wir.\n\n
 Außerdem veranstalten wir wieder ein Schrottwichteln\, bringt dafür gern
 e etwas mit.\n\nWir freuen uns auf Euch!
ATTACH;FMTTYPE=image/jpeg:https://asv-greifswald.de/wp-content/uploads/202
 4/11/IMG_0280.jpg
CATEGORIES:Allgemein,Studierende
LOCATION:Gemeindehaus Wieck\, Kirchstr. 30\, Greifswald\, Deutschland
X-APPLE-STRUCTURED-LOCATION;VALUE=URI;X-ADDRESS=Kirchstr. 30\, Greifswald\,
  Deutschland;X-APPLE-RADIUS=100;X-TITLE=Gemeindehaus Wieck:geo:0,0
END:VEVENT
BEGIN:VTIMEZONE
TZID:Europe/Berlin
X-LIC-LOCATION:Europe/Berlin
BEGIN:STANDARD
DTSTART:20241027T020000
TZOFFSETFROM:+0200
TZOFFSETTO:+0100
TZNAME:CET
END:STANDARD
END:VTIMEZONE
END:VCALENDAR