BEGIN:VCALENDAR
VERSION:2.0
PRODID:-//wp-events-plugin.com//7.2.3.1//EN
TZID:Europe/Berlin
X-WR-TIMEZONE:Europe/Berlin
BEGIN:VEVENT
UID:22@asv-greifswald.de
DTSTART;TZID=Europe/Berlin:20240413T184500
DTEND;TZID=Europe/Berlin:20240413T201500
DTSTAMP:20240122T202706Z
URL:https://asv-greifswald.de/events/volleyball-2024-04-13/
SUMMARY:Volleyball/Badminton
DESCRIPTION:Offen für alle Vereinsmitglieder\, gerne auch der benachbarten
  Vereine\, 2€/Teilnehmer. Hinterher Pizza im San Remo…
CATEGORIES:Allgemein
LOCATION:Sporthalle 4\, Trelleborger Weg\, Greifswald\, Deutschland
X-APPLE-STRUCTURED-LOCATION;VALUE=URI;X-ADDRESS=Trelleborger Weg\, Greifswa
 ld\, Deutschland;X-APPLE-RADIUS=100;X-TITLE=Sporthalle 4:geo:0,0
END:VEVENT
BEGIN:VTIMEZONE
TZID:Europe/Berlin
X-LIC-LOCATION:Europe/Berlin
BEGIN:DAYLIGHT
DTSTART:20240331T030000
TZOFFSETFROM:+0100
TZOFFSETTO:+0200
TZNAME:CEST
END:DAYLIGHT
END:VTIMEZONE
END:VCALENDAR