BEGIN:VCALENDAR
VERSION:2.0
PRODID:-//wp-events-plugin.com//7.2.3.1//EN
TZID:Europe/Berlin
X-WR-TIMEZONE:Europe/Berlin
BEGIN:VEVENT
UID:153@asv-greifswald.de
DTSTART;TZID=Europe/Berlin:20250620T140000
DTEND;TZID=Europe/Berlin:20250622T180000
DTSTAMP:20250315T231634Z
URL:https://asv-greifswald.de/events/vat-der-asvs/
SUMMARY:VAT der ASVs
DESCRIPTION:Auch in diesem Jahr lädt ein ASV aus unserem ASV-Verband (VASV
 ) zum jährlichen Verbands-Aktiven-Treffen (VAT) ein. Dieses besondere Eve
 nt bietet die Gelegenheit\, sich mit Mitgliedern aller Akademischen Segel-
 /Seglervereine aus ganz Deutschland auszutauschen\, gemeinsam zu segeln un
 d sich besser kennen zu lernen. Besonders interessant an diesem Treffen si
 nd sicherlich die vielen Geschichten von großen Seereisen mit ihren Seesc
 hiffen oder mögliche weitere Treffen wie das Jollenwochenende mit den Ber
 linern im letzten Jahr über Pfingsten\, die sich aus solchen Treffen erge
 ben können.\n Nachdem im letzten Jahr die Kieler Gastgeber waren\, freue
 n wir uns\, in diesem Jahr unsere Gäste aus den anderen ASVs bei uns in G
 reifswald begrüßen zu dürfen. Das Treffen findet vom 20. bis 22. Juni a
 uf unserem Vereinsgelände statt.\nEin ganz besonderes Highlight des Woche
 nendes wird unser Sommerfest am Samstag\, den 21. Juni sein. In größerem
  Rahmen wollen wir dieses Jahr gemeinsam mit unseren Gästen feiern – au
 f ein unvergessliches Wochenende voller Segelabenteuer\, intensiven Austau
 schs und einer ausgelassenen Feier!\nWir freuen uns schon jetzt auf eine r
 ege Teilnahme an diesem einmaligen Event!
CATEGORIES:Allgemein,ASV
LOCATION:ASV Bootshalle\, Yachtweg 6\, Greifswald\, Deutschland
X-APPLE-STRUCTURED-LOCATION;VALUE=URI;X-ADDRESS=Yachtweg 6\, Greifswald\, D
 eutschland;X-APPLE-RADIUS=100;X-TITLE=ASV Bootshalle:geo:0,0
END:VEVENT
BEGIN:VTIMEZONE
TZID:Europe/Berlin
X-LIC-LOCATION:Europe/Berlin
BEGIN:DAYLIGHT
DTSTART:20250330T030000
TZOFFSETFROM:+0100
TZOFFSETTO:+0200
TZNAME:CEST
END:DAYLIGHT
END:VTIMEZONE
END:VCALENDAR