BEGIN:VCALENDAR
VERSION:2.0
PRODID:-//wp-events-plugin.com//7.2.3.1//EN
TZID:Europe/Berlin
X-WR-TIMEZONE:Europe/Berlin
BEGIN:VEVENT
UID:126@asv-greifswald.de
DTSTART;TZID=Europe/Berlin;VALUE=DATE:20240612
DTEND;TZID=Europe/Berlin;VALUE=DATE:20240613
DTSTAMP:20240522T215527Z
URL:https://asv-greifswald.de/events/trikottag/
SUMMARY:#Trikottag
DESCRIPTION:\nAm 11. Juni 2024 findet der 2. Bundesweite Trikottag statt. A
 usgerufen vom Deutschen Olympischen Sportbund (DOSB) und mitgetragen von a
 llen Landessportbünden und Sportfachverbänden\, ruft ganz #Sportdeutschl
 and gemeinsam alle Sportvereinsmitglieder dazu auf\, am 11. Juni einen Tag
  lang das Trikot oder Sportoutfit des Heimatvereins im #Alltag zu tragen.\
 n\n\n\nAm Arbeitsplatz\, in der Schule oder beim Einkaufen: Trikots\, Trai
 ningsjacken und T-Shirts sollen überall dort zu sehen sein\, wo man sie n
 ormalerweise nicht erwartet. Damit soll #Werbung gemacht werden für den V
 ereinssport an der Basis und für die rund 87.000 Sportvereine in Deutschl
 and.\n
CATEGORIES:Allgemein,ASV
LOCATION:ASV Bootshalle\, Yachtweg 6\, Greifswald\, Deutschland
X-APPLE-STRUCTURED-LOCATION;VALUE=URI;X-ADDRESS=Yachtweg 6\, Greifswald\, D
 eutschland;X-APPLE-RADIUS=100;X-TITLE=ASV Bootshalle:geo:0,0
END:VEVENT
BEGIN:VTIMEZONE
TZID:Europe/Berlin
X-LIC-LOCATION:Europe/Berlin
BEGIN:DAYLIGHT
DTSTART:20240331T030000
TZOFFSETFROM:+0100
TZOFFSETTO:+0200
TZNAME:CEST
END:DAYLIGHT
END:VTIMEZONE
END:VCALENDAR