BEGIN:VCALENDAR
VERSION:2.0
PRODID:-//wp-events-plugin.com//7.2.3.1//EN
TZID:Europe/Berlin
X-WR-TIMEZONE:Europe/Berlin
BEGIN:VEVENT
UID:125@asv-greifswald.de
DTSTART;TZID=Europe/Berlin:20240522T200000
DTEND;TZID=Europe/Berlin:20240522T220000
DTSTAMP:20240521T210604Z
URL:https://asv-greifswald.de/events/teilnehmertreffen-mr/
SUMMARY:Teilnehmertreffen MR
DESCRIPTION:Das Orga-Team der Mittwochsregatta lädt im Anschluss an die er
 ste Wettfahrt 2024 alle Teilnehmer &amp\; die\, die es werden wollen\, ab 
 ca. 20 Uhr ins Schilfhaus ein. Die Bar wird in Betrieb sein.
CATEGORIES:Allgemein,ASV
LOCATION:Schilfhaus\, Yachtweg 4\, Greifswald\, Deutschland
X-APPLE-STRUCTURED-LOCATION;VALUE=URI;X-ADDRESS=Yachtweg 4\, Greifswald\, D
 eutschland;X-APPLE-RADIUS=100;X-TITLE=Schilfhaus:geo:0,0
END:VEVENT
BEGIN:VTIMEZONE
TZID:Europe/Berlin
X-LIC-LOCATION:Europe/Berlin
BEGIN:DAYLIGHT
DTSTART:20240331T030000
TZOFFSETFROM:+0100
TZOFFSETTO:+0200
TZNAME:CEST
END:DAYLIGHT
END:VTIMEZONE
END:VCALENDAR