BEGIN:VCALENDAR
VERSION:2.0
PRODID:-//wp-events-plugin.com//7.2.3.1//EN
TZID:Europe/Berlin
X-WR-TIMEZONE:Europe/Berlin
BEGIN:VEVENT
UID:204@asv-greifswald.de
DTSTART;TZID=Europe/Berlin:20260116T200000
DTEND;TZID=Europe/Berlin:20260116T235900
DTSTAMP:20260107T231655Z
URL:https://asv-greifswald.de/events/stammtisch-9/
SUMMARY:Stammtisch
DESCRIPTION:Wintersaison ist Stammtischsaison. Damit wir uns auch außerhal
 b der kalten Bootshalle zum gemütlichen Austausch treffen können\, finde
 t im Winterhalbjahr einmal monatlich der Stammtisch statt\, zu dem alle Mi
 tglieder herzlich willkommen sind. Die Studierendenabteilung bittet um ein
 e kurze vorherige Anmeldung (studierende@asv-greifswald.de)\, damit ein au
 sreichend großer Tisch reserviert werden kann.\n\nWir freuen uns auf Euch
 !
ATTACH;FMTTYPE=image/jpeg:https://asv-greifswald.de/wp-content/uploads/202
 5/11/Stammtisch-2.png
CATEGORIES:Allgemein,ASV
LOCATION:Domburg\, Domstr. 21\, Greifswald\, Deutschland
X-APPLE-STRUCTURED-LOCATION;VALUE=URI;X-ADDRESS=Domstr. 21\, Greifswald\, D
 eutschland;X-APPLE-RADIUS=100;X-TITLE=Domburg:geo:0,0
END:VEVENT
BEGIN:VTIMEZONE
TZID:Europe/Berlin
X-LIC-LOCATION:Europe/Berlin
BEGIN:STANDARD
DTSTART:20251026T020000
TZOFFSETFROM:+0200
TZOFFSETTO:+0100
TZNAME:CET
END:STANDARD
END:VTIMEZONE
END:VCALENDAR