BEGIN:VCALENDAR
VERSION:2.0
PRODID:-//wp-events-plugin.com//7.2.3.1//EN
TZID:Europe/Berlin
X-WR-TIMEZONE:Europe/Berlin
BEGIN:VEVENT
UID:199@asv-greifswald.de
DTSTART;TZID=Europe/Berlin:20251121T200000
DTEND;TZID=Europe/Berlin:20251121T233000
DTSTAMP:20251107T102945Z
URL:https://asv-greifswald.de/events/stammtisch-8/
SUMMARY:Stammtisch
DESCRIPTION:Der erste Stammtisch der Wintersaison 25/26 soll  am 21.11. um
  20 Uhr in der Domburg (Domstraße 21) stattfinden. Dabei sind sowohl Mitg
 lieder\, als auch Interessenten herzlich willkommen. Lasst uns gemeinsam 
 über die vergangene Saison schwärmen\, den Winter planen und dabei ein G
 etränk genießen. Wir freuen uns auf euch!
ATTACH;FMTTYPE=image/jpeg:https://asv-greifswald.de/wp-content/uploads/202
 5/11/Stammtisch-2.png
CATEGORIES:Allgemein,ASV
LOCATION:Domburg\, Domstr. 21\, Greifswald\, Deutschland
X-APPLE-STRUCTURED-LOCATION;VALUE=URI;X-ADDRESS=Domstr. 21\, Greifswald\, D
 eutschland;X-APPLE-RADIUS=100;X-TITLE=Domburg:geo:0,0
END:VEVENT
BEGIN:VTIMEZONE
TZID:Europe/Berlin
X-LIC-LOCATION:Europe/Berlin
BEGIN:STANDARD
DTSTART:20251026T020000
TZOFFSETFROM:+0200
TZOFFSETTO:+0100
TZNAME:CET
END:STANDARD
END:VTIMEZONE
END:VCALENDAR