BEGIN:VCALENDAR
VERSION:2.0
PRODID:-//wp-events-plugin.com//7.2.3.1//EN
TZID:Europe/Berlin
X-WR-TIMEZONE:Europe/Berlin
BEGIN:VEVENT
UID:145@asv-greifswald.de
DTSTART;TZID=Europe/Berlin:20250214T200000
DTEND;TZID=Europe/Berlin:20250214T234500
DTSTAMP:20250126T092318Z
URL:https://asv-greifswald.de/events/stammtisch-7/
SUMMARY:Stammtisch
DESCRIPTION:Stammtisch für Jung und Alt zum Quatschen\, Planen und in Erin
 nerungen schwelgen.
CATEGORIES:Allgemein
LOCATION:Domburg\, Domstr. 21\, Greifswald\, Deutschland
X-APPLE-STRUCTURED-LOCATION;VALUE=URI;X-ADDRESS=Domstr. 21\, Greifswald\, D
 eutschland;X-APPLE-RADIUS=100;X-TITLE=Domburg:geo:0,0
END:VEVENT
BEGIN:VTIMEZONE
TZID:Europe/Berlin
X-LIC-LOCATION:Europe/Berlin
BEGIN:STANDARD
DTSTART:20241027T020000
TZOFFSETFROM:+0200
TZOFFSETTO:+0100
TZNAME:CET
END:STANDARD
END:VTIMEZONE
END:VCALENDAR