BEGIN:VCALENDAR
VERSION:2.0
PRODID:-//wp-events-plugin.com//7.2.3.1//EN
TZID:Europe/Berlin
X-WR-TIMEZONE:Europe/Berlin
BEGIN:VEVENT
UID:131@asv-greifswald.de
DTSTART;TZID=Europe/Berlin:20241108T200000
DTEND;TZID=Europe/Berlin:20241108T233000
DTSTAMP:20260107T231554Z
URL:https://asv-greifswald.de/events/stammtisch-4/
SUMMARY:Stammtisch
DESCRIPTION:Der Beginn der Wintersaison ist gleichzeitig der Beginn der Sta
 mmtischsaison. Damit wir uns auch außerhalb der kalten Bootshalle zum gem
 ütlichen Austausch treffen können\, findet im Winterhalbjahr einmal mona
 tlich der Stammtisch statt\, zu dem alle Mitglieder herzlich willkommen si
 nd. Die Studierendenabteilung bittet um eine kurze vorherige Anmeldung (st
 udierende@asv-greifswald.de)\, damit ein ausreichend großer Tisch reservi
 ert werden kann.\n\nDer erste Stammtisch findet am 08.11.24 ab 20 Uhr in d
 er Domburg statt.
CATEGORIES:Allgemein
LOCATION:Domburg\, Domstraße 21\, Greifswald\, Deutschland
X-APPLE-STRUCTURED-LOCATION;VALUE=URI;X-ADDRESS=Domstraße 21\, Greifswald\
 , Deutschland;X-APPLE-RADIUS=100;X-TITLE=Domburg:geo:0,0
END:VEVENT
BEGIN:VTIMEZONE
TZID:Europe/Berlin
X-LIC-LOCATION:Europe/Berlin
BEGIN:STANDARD
DTSTART:20241027T020000
TZOFFSETFROM:+0200
TZOFFSETTO:+0100
TZNAME:CET
END:STANDARD
END:VTIMEZONE
END:VCALENDAR