BEGIN:VCALENDAR
VERSION:2.0
PRODID:-//wp-events-plugin.com//7.2.3.1//EN
TZID:Europe/Berlin
X-WR-TIMEZONE:Europe/Berlin
BEGIN:VEVENT
UID:102@asv-greifswald.de
DTSTART;TZID=Europe/Berlin:20240405T190000
DTEND;TZID=Europe/Berlin:20240405T233000
DTSTAMP:20240317T193156Z
URL:https://asv-greifswald.de/events/stammtisch-3/
SUMMARY:Stammtisch
DESCRIPTION:Am 05.04.24 findet der nächste Stammtisch statt. Ab 19 Uhr tre
 ffen wir uns dieses Mal in der Domburg. Alle sind herzlich eingeladen. Ein
 e Voranmeldung ist nicht notwendig.
ATTACH;FMTTYPE=image/jpeg:https://asv-greifswald.de/wp-content/uploads/202
 4/03/c028a2e0-fa4b-43a8-acb7-5fe09e7182a3.jpg
CATEGORIES:Allgemein
LOCATION:Domburg\, Domstr. 21\, Greifswald\, Deutschland
X-APPLE-STRUCTURED-LOCATION;VALUE=URI;X-ADDRESS=Domstr. 21\, Greifswald\, D
 eutschland;X-APPLE-RADIUS=100;X-TITLE=Domburg:geo:0,0
END:VEVENT
BEGIN:VTIMEZONE
TZID:Europe/Berlin
X-LIC-LOCATION:Europe/Berlin
BEGIN:DAYLIGHT
DTSTART:20240331T030000
TZOFFSETFROM:+0100
TZOFFSETTO:+0200
TZNAME:CEST
END:DAYLIGHT
END:VTIMEZONE
END:VCALENDAR