BEGIN:VCALENDAR
VERSION:2.0
PRODID:-//wp-events-plugin.com//7.2.3.1//EN
TZID:Europe/Berlin
X-WR-TIMEZONE:Europe/Berlin
BEGIN:VEVENT
UID:95@asv-greifswald.de
DTSTART;TZID=Europe/Berlin:20240301T190000
DTEND;TZID=Europe/Berlin:20240301T230000
DTSTAMP:20240129T221646Z
URL:https://asv-greifswald.de/events/stammtisch-2/
SUMMARY:Stammtisch
DESCRIPTION:Stammtisch für Jung und Alt zum Quatschen\, Planen und in Erin
 nerungen schwelgen.
CATEGORIES:Allgemein
LOCATION:Brasserie Hermann\, Gützkower Straße 1\, Greifswald\, Deutschlan
 d
X-APPLE-STRUCTURED-LOCATION;VALUE=URI;X-ADDRESS=Gützkower Straße 1\, Grei
 fswald\, Deutschland;X-APPLE-RADIUS=100;X-TITLE=Brasserie Hermann:geo:0,0
END:VEVENT
BEGIN:VTIMEZONE
TZID:Europe/Berlin
X-LIC-LOCATION:Europe/Berlin
BEGIN:STANDARD
DTSTART:20231029T020000
TZOFFSETFROM:+0200
TZOFFSETTO:+0100
TZNAME:CET
END:STANDARD
END:VTIMEZONE
END:VCALENDAR