BEGIN:VCALENDAR
VERSION:2.0
PRODID:-//wp-events-plugin.com//7.2.3.1//EN
TZID:Europe/Berlin
X-WR-TIMEZONE:Europe/Berlin
BEGIN:VEVENT
UID:124@asv-greifswald.de
DTSTART;TZID=Europe/Berlin:20240622T180000
DTEND;TZID=Europe/Berlin:20240622T234500
DTSTAMP:20240521T205905Z
URL:https://asv-greifswald.de/events/sommerfest/
SUMMARY:Sommerfest
DESCRIPTION:Liebe Mitglieder\,\nWir möchten euch sehr herzlich zu unserer 
 diesjährigen Geschwaderfahrt und dem anschließenden Sommerfest am 22. Ju
 ni einladen.\nWie immer möchten wir die Crews für die Geschwaderfahrt du
 rchmischen. Daher bitten wir alle\, die an der Geschwaderfahrt teilnehmen 
 möchten\, egal ob mit oder ohne eigenem Boot\, sich am 22. Juni zu 11.30 
 Uhr bei uns an der Halle für die Crewbörse mit anschließender Steuerman
 nsbesprechung einzufinden. Start der Geschwaderfahrt ist dann um 13 Uhr.\n
 Um 18 Uhr beginnen dann die Feierlichkeiten auf unserem Vereinsgelände. W
 ie immer gibt es eine Bar und Grillgut\, sowie ein Mitbringbuffet\, an dem
  sich jeder\, der mag\, gerne beteiligen kann.\nUm insbesondere die Einkä
 ufe von Grillgut und Getränken besser kalkulieren zu können\, würden wi
 r euch bitten uns bis zum 31.05. mit einer kurzen Mail an studierende@asv-
 greifswald.de mitzuteilen ob und mit wie vielen Personen ihr zum Sommerfes
 t kommt. Kurzentschlossene sind aber natürlich trotzdem immer herzlich wi
 llkommen!\nWir freuen uns schon mit euch zu feiern!\nLiebe Grüße\nDer St
 udi-Vorstand des ASV
ATTACH;FMTTYPE=image/jpeg:https://asv-greifswald.de/wp-content/uploads/202
 4/05/Einladung-Sommerfest.jpg
CATEGORIES:Allgemein,ASV
LOCATION:ASV Bootshalle\, Yachtweg 6\, Greifswald\, Deutschland
X-APPLE-STRUCTURED-LOCATION;VALUE=URI;X-ADDRESS=Yachtweg 6\, Greifswald\, D
 eutschland;X-APPLE-RADIUS=100;X-TITLE=ASV Bootshalle:geo:0,0
END:VEVENT
BEGIN:VTIMEZONE
TZID:Europe/Berlin
X-LIC-LOCATION:Europe/Berlin
BEGIN:DAYLIGHT
DTSTART:20240331T030000
TZOFFSETFROM:+0100
TZOFFSETTO:+0200
TZNAME:CEST
END:DAYLIGHT
END:VTIMEZONE
END:VCALENDAR