BEGIN:VCALENDAR
VERSION:2.0
PRODID:-//wp-events-plugin.com//7.2.3.1//EN
TZID:Europe/Berlin
X-WR-TIMEZONE:Europe/Berlin
BEGIN:VEVENT
UID:152@asv-greifswald.de
DTSTART;TZID=Europe/Berlin:20250621T180000
DTEND;TZID=Europe/Berlin:20250621T234500
DTSTAMP:20250527T075556Z
URL:https://asv-greifswald.de/events/sommerfest-2/
SUMMARY:Sommerfest
DESCRIPTION:In diesem Jahr findet das Verbands-Aktiven-Treffen (VAT) der de
 utschen ASVs bei uns in Greifswald statt. Dafür laden wir Mitglieder aus 
 allen 12 Akademischen Segel-/Seglervereinen aus ganz Deutschland zu uns ei
 n. Stattfinden wird das Event vom 20.-22.06. und Ihr seid natürlich auch 
 herzlich eingeladen. Besonders das Sommerfest am 21.06. möchten wir in di
 esem Jahr in großer Runde mit Euch feiern. Dafür wird es im Vorfeld eine
 n Kartenverkauf geben\, bei dem Ihr Karten für das Sommerfest erwerben k
 önnt.\n\nEine Karte kostet 15 Euro\, inbegriffen sind Essen\, alkoholfrei
 e Getränke\,Geschwaderfahrt\, Musik &amp\; Spaß.\n\nKarten könnt Ihr be
 im Studierenden-Vorstand bis zum 15.06. persönlich kaufen oder unter: stu
 dierende@asv-greifswald.de  reservieren. Am Wochenende wird es auch eine 
 Abendkasse mit einem Aufpreis geben.\n\nKinder unter 12 Jahren benötigen 
 keine Eintrittskarte.
CATEGORIES:Allgemein,ASV
LOCATION:ASV Bootshalle\, Yachtweg 6\, Greifswald\, Deutschland
X-APPLE-STRUCTURED-LOCATION;VALUE=URI;X-ADDRESS=Yachtweg 6\, Greifswald\, D
 eutschland;X-APPLE-RADIUS=100;X-TITLE=ASV Bootshalle:geo:0,0
END:VEVENT
BEGIN:VTIMEZONE
TZID:Europe/Berlin
X-LIC-LOCATION:Europe/Berlin
BEGIN:DAYLIGHT
DTSTART:20250330T030000
TZOFFSETFROM:+0100
TZOFFSETTO:+0200
TZNAME:CEST
END:DAYLIGHT
END:VTIMEZONE
END:VCALENDAR