BEGIN:VCALENDAR
VERSION:2.0
PRODID:-//wp-events-plugin.com//7.2.3.1//EN
TZID:Europe/Berlin
X-WR-TIMEZONE:Europe/Berlin
BEGIN:VEVENT
UID:146@asv-greifswald.de
DTSTART;TZID=Europe/Berlin:20250426T080000
DTEND;TZID=Europe/Berlin:20250426T150000
DTSTAMP:20250309T213347Z
URL:https://asv-greifswald.de/events/slippen/
SUMMARY:Abslippen
DESCRIPTION:Der Termin zum Aufslippen steht nun fest. 8 Uhr geht es mit der
  Arbeitsschutzbelehrung an der ASV-Halle los. Eigner halten bitte 30€ bz
 w. 60€ möglichst passend und den aktuellen Versicherungsnachweis bereit
 .\n\nNach getaner Arbeit und gemeinschaftlichem Setzen des Vereinsstanders
  an den Flaggenmasten wird der Grill angeheizt.
CATEGORIES:Allgemein,ASV
LOCATION:ASV Bootshalle\, Yachtweg 6\, Greifswald\, Deutschland
X-APPLE-STRUCTURED-LOCATION;VALUE=URI;X-ADDRESS=Yachtweg 6\, Greifswald\, D
 eutschland;X-APPLE-RADIUS=100;X-TITLE=ASV Bootshalle:geo:0,0
END:VEVENT
BEGIN:VTIMEZONE
TZID:Europe/Berlin
X-LIC-LOCATION:Europe/Berlin
BEGIN:DAYLIGHT
DTSTART:20250330T030000
TZOFFSETFROM:+0100
TZOFFSETTO:+0200
TZNAME:CEST
END:DAYLIGHT
END:VTIMEZONE
END:VCALENDAR