BEGIN:VCALENDAR
VERSION:2.0
PRODID:-//wp-events-plugin.com//7.2.3.1//EN
TZID:Europe/Berlin
X-WR-TIMEZONE:Europe/Berlin
BEGIN:VEVENT
UID:70@asv-greifswald.de
DTSTART;TZID=Europe/Berlin:20240315T190000
DTEND;TZID=Europe/Berlin:20240315T234500
DTSTAMP:20240219T215022Z
URL:https://asv-greifswald.de/events/seglerball/
SUMMARY:Seglerball
DESCRIPTION:Der Kartenvorverkauf ist gestartet.\nDie Kartenanzahl ist auf 1
 20 Stück limitiert -also schnell sein!!!\n\nEs ist kein Fehler in der Ein
 ladung. Der Seglerball findet in diesem Jahr an einem Freitag statt.\nIn u
 nmittelbarer Nähe der Straze ist das Parken nicht möglich. Empfohlen wir
 d der Parkplatz Salinenstraße bzw. Taxi oder der "Friedrich"-Rufbus.\nDer
  Kartenpreis beträgt in diesem Jahr 40€.\n\nDer Kartenvorverkauf für d
 en ASV läuft über Philipp Gläser.\n\n>>>>>AUSVERKAUFT!!!
ATTACH;FMTTYPE=image/jpeg:https://asv-greifswald.de/wp-content/uploads/202
 4/01/Bildschirmfoto-2024-01-24-um-20.34.13.png
LOCATION:STRAZE\, Stralsunder Straße 10 \, Greifswald\, 17489\, Deutschlan
 d
X-APPLE-STRUCTURED-LOCATION;VALUE=URI;X-ADDRESS=Stralsunder Straße 10 \, G
 reifswald\, 17489\, Deutschland;X-APPLE-RADIUS=100;X-TITLE=STRAZE:geo:0,0
END:VEVENT
BEGIN:VTIMEZONE
TZID:Europe/Berlin
X-LIC-LOCATION:Europe/Berlin
BEGIN:STANDARD
DTSTART:20231029T020000
TZOFFSETFROM:+0200
TZOFFSETTO:+0100
TZNAME:CET
END:STANDARD
END:VTIMEZONE
END:VCALENDAR