BEGIN:VCALENDAR
VERSION:2.0
PRODID:-//wp-events-plugin.com//7.2.3.1//EN
TZID:Europe/Berlin
X-WR-TIMEZONE:Europe/Berlin
BEGIN:VEVENT
UID:133@asv-greifswald.de
DTSTART;TZID=Europe/Berlin:20250315T183000
DTEND;TZID=Europe/Berlin:20250315T234500
DTSTAMP:20241103T205042Z
URL:https://asv-greifswald.de/events/seglerball-2/
SUMMARY:Seglerball
DESCRIPTION:Gesellschaftliches Highlight der Greifswalder Seglerszene. Info
 s zum Kartenvorverkauf folgen.
CATEGORIES:Allgemein
LOCATION:STRAZE\, Stralsunder Straße 10 \, Greifswald\, 17489\, Deutschlan
 d
X-APPLE-STRUCTURED-LOCATION;VALUE=URI;X-ADDRESS=Stralsunder Straße 10 \, G
 reifswald\, 17489\, Deutschland;X-APPLE-RADIUS=100;X-TITLE=STRAZE:geo:0,0
END:VEVENT
BEGIN:VTIMEZONE
TZID:Europe/Berlin
X-LIC-LOCATION:Europe/Berlin
BEGIN:STANDARD
DTSTART:20241027T020000
TZOFFSETFROM:+0200
TZOFFSETTO:+0100
TZNAME:CET
END:STANDARD
END:VTIMEZONE
END:VCALENDAR