BEGIN:VCALENDAR
VERSION:2.0
PRODID:-//wp-events-plugin.com//7.2.3.1//EN
TZID:Europe/Berlin
X-WR-TIMEZONE:Europe/Berlin
BEGIN:VEVENT
UID:360@asv-greifswald.de
DTSTART;TZID=Europe/Berlin:20260410T190000
DTEND;TZID=Europe/Berlin:20260410T220000
DTSTAMP:20260304T151451Z
URL:https://asv-greifswald.de/events/seereisenschnack-3/
SUMMARY:Seereisenschnack
DESCRIPTION:Mitglieder des ASV berichten von ihren kleinen und großen Aben
 teuern der letzten Saison.\nGetränke sind vor Ort gegen einen Obolus zu e
 rwerben.\n\nDie Veranstaltung ist vereinsübergreifend offen für alle Int
 eressierten!
CATEGORIES:Allgemein
LOCATION:Schilfhaus\, Yachtweg 4\, Greifswald\, Deutschland
X-APPLE-STRUCTURED-LOCATION;VALUE=URI;X-ADDRESS=Yachtweg 4\, Greifswald\, D
 eutschland;X-APPLE-RADIUS=100;X-TITLE=Schilfhaus:geo:0,0
END:VEVENT
BEGIN:VTIMEZONE
TZID:Europe/Berlin
X-LIC-LOCATION:Europe/Berlin
BEGIN:DAYLIGHT
DTSTART:20260329T030000
TZOFFSETFROM:+0100
TZOFFSETTO:+0200
TZNAME:CEST
END:DAYLIGHT
END:VTIMEZONE
END:VCALENDAR