BEGIN:VCALENDAR
VERSION:2.0
PRODID:-//wp-events-plugin.com//7.2.3.1//EN
TZID:Europe/Berlin
X-WR-TIMEZONE:Europe/Berlin
BEGIN:VEVENT
UID:148@asv-greifswald.de
DTSTART;TZID=Europe/Berlin:20250411T190000
DTEND;TZID=Europe/Berlin:20250411T213000
DTSTAMP:20250309T211408Z
URL:https://asv-greifswald.de/events/seereisenschnack-2/
SUMMARY:Seereisenschnack
DESCRIPTION:Der Studierendenvorstand lädt auch in diesem Jahr zum Seereise
 nschnack ins Schilfhaus ein. Für Knabberein und Getränke ist gesorgt.\n\
 nDie Veranstaltung ist offen für Mitglieder aller Vereine.\n\n&nbsp\;\n\n
 Du möchtest uns von deiner Seereise 2025 erzählen? Pro Beitrag planen wi
 r ca. 20 Minuten\, Technik und Beamer stehen zur Verfügung. Wenn du einen
  Beitrag vorbereiten möchtest\, melde dich gerne bei Nina (studierende@as
 v-greifswald.de).
ATTACH;FMTTYPE=image/jpeg:https://asv-greifswald.de/wp-content/uploads/202
 5/03/IMG_0801.jpg
CATEGORIES:Allgemein,ASV
LOCATION:Schilfhaus\, Yachtweg 4\, Greifswald\, Deutschland
X-APPLE-STRUCTURED-LOCATION;VALUE=URI;X-ADDRESS=Yachtweg 4\, Greifswald\, D
 eutschland;X-APPLE-RADIUS=100;X-TITLE=Schilfhaus:geo:0,0
END:VEVENT
BEGIN:VTIMEZONE
TZID:Europe/Berlin
X-LIC-LOCATION:Europe/Berlin
BEGIN:DAYLIGHT
DTSTART:20250330T030000
TZOFFSETFROM:+0100
TZOFFSETTO:+0200
TZNAME:CEST
END:DAYLIGHT
END:VTIMEZONE
END:VCALENDAR