BEGIN:VCALENDAR
VERSION:2.0
PRODID:-//wp-events-plugin.com//7.2.3.1//EN
TZID:Europe/Berlin
X-WR-TIMEZONE:Europe/Berlin
BEGIN:VEVENT
UID:149@asv-greifswald.de
DTSTART;TZID=Europe/Berlin;VALUE=DATE:20250329
DTEND;TZID=Europe/Berlin;VALUE=DATE:20250330
DTSTAMP:20250309T211914Z
URL:https://asv-greifswald.de/events/seemannschaftsabend/
SUMMARY:Seemannschaftsabend
DESCRIPTION:Thema: Erste Hilfe an Bord\n\nUhrzeit folgt.
CATEGORIES:Allgemein,ASV
LOCATION:Schilfhaus\, Yachtweg 4\, Greifswald\, Deutschland
X-APPLE-STRUCTURED-LOCATION;VALUE=URI;X-ADDRESS=Yachtweg 4\, Greifswald\, D
 eutschland;X-APPLE-RADIUS=100;X-TITLE=Schilfhaus:geo:0,0
END:VEVENT
BEGIN:VTIMEZONE
TZID:Europe/Berlin
X-LIC-LOCATION:Europe/Berlin
BEGIN:STANDARD
DTSTART:20241027T020000
TZOFFSETFROM:+0200
TZOFFSETTO:+0100
TZNAME:CET
END:STANDARD
END:VTIMEZONE
END:VCALENDAR