BEGIN:VCALENDAR
VERSION:2.0
PRODID:-//wp-events-plugin.com//7.2.3.1//EN
TZID:Europe/Berlin
X-WR-TIMEZONE:Europe/Berlin
BEGIN:VEVENT
UID:192@asv-greifswald.de
DTSTART;TZID=Europe/Berlin:20251017T180000
DTEND;TZID=Europe/Berlin:20251017T220000
DTSTAMP:20251015T134234Z
URL:https://asv-greifswald.de/events/saisonabschlussgrillen/
SUMMARY:Saisonabschlussgrillen
DESCRIPTION:Die Saison neigt sich langsam dem Ende zu: Zeit für unser Sais
 onabschlussgrillen.\nAm *17. Oktober ab 18 Uhr* wollen wir mit euch an der
  Halle grillen. Grillgut bringt sich jede*r selbst mit\, Getränke stellen
  wir.\n\nEs sind auch alle Erstis\, die zum neuen Semester nach Greifswald
  gekommen sind und uns gerne kennenlernen möchten\, herzlich eingeladen. 
 Und wenn ihr noch Freunde und Bekannte habt\, die Interesse am ASV haben\,
  ist das eine super Gelegenheit\, sie mitzuschleppen.
ATTACH;FMTTYPE=image/jpeg:https://asv-greifswald.de/wp-content/uploads/202
 5/10/Grillen.png
CATEGORIES:Allgemein,ASV
LOCATION:ASV Bootshalle\, Yachtweg 6\, Greifswald\, Deutschland
X-APPLE-STRUCTURED-LOCATION;VALUE=URI;X-ADDRESS=Yachtweg 6\, Greifswald\, D
 eutschland;X-APPLE-RADIUS=100;X-TITLE=ASV Bootshalle:geo:0,0
END:VEVENT
BEGIN:VTIMEZONE
TZID:Europe/Berlin
X-LIC-LOCATION:Europe/Berlin
BEGIN:DAYLIGHT
DTSTART:20250330T030000
TZOFFSETFROM:+0100
TZOFFSETTO:+0200
TZNAME:CEST
END:DAYLIGHT
END:VTIMEZONE
END:VCALENDAR