BEGIN:VCALENDAR
VERSION:2.0
PRODID:-//wp-events-plugin.com//7.2.3.1//EN
TZID:Europe/Berlin
X-WR-TIMEZONE:Europe/Berlin
BEGIN:VEVENT
UID:151@asv-greifswald.de
DTSTART;TZID=Europe/Berlin:20250325T193000
DTEND;TZID=Europe/Berlin:20250325T213000
DTSTAMP:20250315T221842Z
URL:https://asv-greifswald.de/events/rum-knoten/
SUMMARY:Rum & Knoten
DESCRIPTION:Schon im Januar haben sich einige Vereinsmitglieder in gesellig
 er Runde getroffen\, um Softschäkel zu basteln. Das ganze soll in einer z
 weiten Runde fortgesetzt werden. Diesmal soll es nicht nur um den Diamantk
 noten gehen\, sondern wir wollen endlich Augspleiße und verschiedene Takl
 inge ausprobieren. Du hast Interesse? Dann komm gerne am 25.03. gegen 19 U
 hr in die Domburg (Domstraße 21\, Greifswald). Meldet euch gerne bei Frag
 en bei Jan-Peter Richters (jp.richters@googlemail.com).
CATEGORIES:Allgemein,ASV
LOCATION:Domburg\, Domstr. 21\, Greifswald\, Deutschland
X-APPLE-STRUCTURED-LOCATION;VALUE=URI;X-ADDRESS=Domstr. 21\, Greifswald\, D
 eutschland;X-APPLE-RADIUS=100;X-TITLE=Domburg:geo:0,0
END:VEVENT
BEGIN:VTIMEZONE
TZID:Europe/Berlin
X-LIC-LOCATION:Europe/Berlin
BEGIN:STANDARD
DTSTART:20241027T020000
TZOFFSETFROM:+0200
TZOFFSETTO:+0100
TZNAME:CET
END:STANDARD
END:VTIMEZONE
END:VCALENDAR