BEGIN:VCALENDAR
VERSION:2.0
PRODID:-//wp-events-plugin.com//7.2.3.1//EN
TZID:Europe/Berlin
X-WR-TIMEZONE:Europe/Berlin
BEGIN:VEVENT
UID:127@asv-greifswald.de
DTSTART;TZID=Europe/Berlin:20240606T160000
DTEND;TZID=Europe/Berlin:20240606T200000
DTSTAMP:20240524T230728Z
URL:https://asv-greifswald.de/events/pruefung-sbf-see/
SUMMARY:Prüfung Sbf See
DESCRIPTION:Erster Prüfungsteil unseres diesjährigen Sbf-Kurses: Sportboo
 tführerschein See in Theorie und Praxis (Motorboot)\n\nOrt: UWZ (Universi
 tätswassersportzentrum) im Yachtweg 2 (flaches Gebäude mit blauen Toren)
 \n\nBitte ans Navi-Besteck und Personalausweis denken!!!
CATEGORIES:Allgemein,ASV
LOCATION:UWZ\, Yachtweg 2\, Greifswald\, Deutschland
X-APPLE-STRUCTURED-LOCATION;VALUE=URI;X-ADDRESS=Yachtweg 2\, Greifswald\, D
 eutschland;X-APPLE-RADIUS=100;X-TITLE=UWZ:geo:0,0
END:VEVENT
BEGIN:VTIMEZONE
TZID:Europe/Berlin
X-LIC-LOCATION:Europe/Berlin
BEGIN:DAYLIGHT
DTSTART:20240331T030000
TZOFFSETFROM:+0100
TZOFFSETTO:+0200
TZNAME:CEST
END:DAYLIGHT
END:VTIMEZONE
END:VCALENDAR