BEGIN:VCALENDAR
VERSION:2.0
PRODID:-//wp-events-plugin.com//7.2.3.1//EN
TZID:Europe/Berlin
X-WR-TIMEZONE:Europe/Berlin
BEGIN:VEVENT
UID:128@asv-greifswald.de
DTSTART;TZID=Europe/Berlin:20240705T130000
DTEND;TZID=Europe/Berlin:20240705T180000
DTSTAMP:20240524T231925Z
URL:https://asv-greifswald.de/events/pruefung-sbf-binnen/
SUMMARY:Prüfung Sbf Binnen
DESCRIPTION:Zweiter Prüfungsteil unseres diesjährigen Sbf-Kurses: Sportbo
 otführerschein Binnen in Theorie und Praxis (Segeln Kielboot)\n\nOrt: UWZ
  (Universitätswassersportzentrum) im Yachtweg 2 (flaches Gebäude mit bla
 uen Toren)
CATEGORIES:Allgemein,ASV
LOCATION:UWZ\, Yachtweg 2\, Greifswald\, Deutschland
X-APPLE-STRUCTURED-LOCATION;VALUE=URI;X-ADDRESS=Yachtweg 2\, Greifswald\, D
 eutschland;X-APPLE-RADIUS=100;X-TITLE=UWZ:geo:0,0
END:VEVENT
BEGIN:VTIMEZONE
TZID:Europe/Berlin
X-LIC-LOCATION:Europe/Berlin
BEGIN:DAYLIGHT
DTSTART:20240331T030000
TZOFFSETFROM:+0100
TZOFFSETTO:+0200
TZNAME:CEST
END:DAYLIGHT
END:VTIMEZONE
END:VCALENDAR