BEGIN:VCALENDAR
VERSION:2.0
PRODID:-//wp-events-plugin.com//7.2.3.1//EN
TZID:Europe/Berlin
X-WR-TIMEZONE:Europe/Berlin
BEGIN:VEVENT
UID:25@asv-greifswald.de
DTSTART;TZID=Europe/Berlin:20231202T110000
DTEND;TZID=Europe/Berlin:20231202T160000
DTSTAMP:20231129T235934Z
URL:https://asv-greifswald.de/events/nikolausregatta/
SUMMARY:Nikolausregatta
DESCRIPTION:Große Menschen regattieren in kleinen Booten… Glühwein\, Ke
 kse… \nEinweihungsfeier der neuen GJA-Halle ab 15 Uhr
ATTACH;FMTTYPE=image/jpeg:https://asv-greifswald.de/wp-content/uploads/202
 3/11/Screenshot-2023-11-23-at-16.19.11.png
CATEGORIES:Regatta
LOCATION:Villa Hügel\, Yachtweg 4\, Greifswald\, Deutschland
X-APPLE-STRUCTURED-LOCATION;VALUE=URI;X-ADDRESS=Yachtweg 4\, Greifswald\, D
 eutschland;X-APPLE-RADIUS=100;X-TITLE=Villa Hügel:geo:0,0
END:VEVENT
BEGIN:VTIMEZONE
TZID:Europe/Berlin
X-LIC-LOCATION:Europe/Berlin
BEGIN:STANDARD
DTSTART:20231029T020000
TZOFFSETFROM:+0200
TZOFFSETTO:+0100
TZNAME:CET
END:STANDARD
END:VTIMEZONE
END:VCALENDAR