BEGIN:VCALENDAR
VERSION:2.0
PRODID:-//wp-events-plugin.com//7.2.3.1//EN
TZID:Europe/Berlin
X-WR-TIMEZONE:Europe/Berlin
BEGIN:VEVENT
UID:201@asv-greifswald.de
DTSTART;TZID=Europe/Berlin;VALUE=DATE:20251206
DTEND;TZID=Europe/Berlin;VALUE=DATE:20251207
DTSTAMP:20251124T220205Z
URL:https://asv-greifswald.de/events/nikolausregatta-3/
SUMMARY:Nikolausregatta
DESCRIPTION:Jedes Jahr wieder ein großes Spektakel: große Menschen in kle
 inen Booten.\n\nBeginn 11 Uhr im Schilfhaus des GYC.
ATTACH;FMTTYPE=image/jpeg:https://asv-greifswald.de/wp-content/uploads/202
 5/11/Nikolausregatta-3.png
CATEGORIES:ASV,Regatta
END:VEVENT
BEGIN:VTIMEZONE
TZID:Europe/Berlin
X-LIC-LOCATION:Europe/Berlin
BEGIN:STANDARD
DTSTART:20251026T020000
TZOFFSETFROM:+0200
TZOFFSETTO:+0100
TZNAME:CET
END:STANDARD
END:VTIMEZONE
END:VCALENDAR