BEGIN:VCALENDAR
VERSION:2.0
PRODID:-//wp-events-plugin.com//7.2.3.1//EN
TZID:Europe/Berlin
X-WR-TIMEZONE:Europe/Berlin
BEGIN:VEVENT
UID:132@asv-greifswald.de
DTSTART;TZID=Europe/Berlin:20241207T110000
DTEND;TZID=Europe/Berlin:20241207T150000
DTSTAMP:20241125T191943Z
URL:https://asv-greifswald.de/events/nikolausregatta-2/
SUMMARY:Nikolausregatta
DESCRIPTION:Große Menschen in kleinen Booten...Treff und Steuer*menschbesp
 rechung um 11 Uhr am Vereinshaus des Yachtclub Wieck. *Punsch*Gebäck*Glü
 hwein*
ATTACH;FMTTYPE=image/jpeg:https://asv-greifswald.de/wp-content/uploads/202
 4/11/IMG_0278.jpg
CATEGORIES:Allgemein,Regatta
LOCATION:Yachtclub Wieck\, Yachtweg 4\, Greifswald\, Deutschland
X-APPLE-STRUCTURED-LOCATION;VALUE=URI;X-ADDRESS=Yachtweg 4\, Greifswald\, D
 eutschland;X-APPLE-RADIUS=100;X-TITLE=Yachtclub Wieck:geo:0,0
END:VEVENT
BEGIN:VTIMEZONE
TZID:Europe/Berlin
X-LIC-LOCATION:Europe/Berlin
BEGIN:STANDARD
DTSTART:20241027T020000
TZOFFSETFROM:+0200
TZOFFSETTO:+0100
TZNAME:CET
END:STANDARD
END:VTIMEZONE
END:VCALENDAR