BEGIN:VCALENDAR
VERSION:2.0
PRODID:-//wp-events-plugin.com//7.2.3.1//EN
TZID:Europe/Berlin
X-WR-TIMEZONE:Europe/Berlin
BEGIN:VEVENT
UID:73@asv-greifswald.de
DTSTART;TZID=Europe/Berlin:20240522T173000
DTEND;TZID=Europe/Berlin:20240918T173000
DTSTAMP:20240521T211356Z
URL:https://asv-greifswald.de/event-recurring/mittwochsregatta/
SUMMARY:Mittwochsregatta
DESCRIPTION:Erfreulicherweise hat sich ein kleines Team gefunden\, das die 
 Greifswalder Mittwochsregatta für die Saison 2024 plant. Neues Team\, bek
 annter Modus: 2 Kurse im Wechsel: GL und L\, Kängurustart nach ORC-Verrec
 hnung\, Tracking mit der Kwindoo-App\, danach Treffen zum Bier im Schilfha
 us.\n\nMeldung unter www.mittwochsregatta-greifswald.de
CATEGORIES:Regatta
LOCATION:Dänische Wiek\, Wieck\, Greifswald\, Deutschland
X-APPLE-STRUCTURED-LOCATION;VALUE=URI;X-ADDRESS=Wieck\, Greifswald\, Deutsc
 hland;X-APPLE-RADIUS=100;X-TITLE=Dänische Wiek:geo:0,0
END:VEVENT
BEGIN:VTIMEZONE
TZID:Europe/Berlin
X-LIC-LOCATION:Europe/Berlin
BEGIN:DAYLIGHT
DTSTART:20240331T030000
TZOFFSETFROM:+0100
TZOFFSETTO:+0200
TZNAME:CEST
END:DAYLIGHT
END:VTIMEZONE
END:VCALENDAR