BEGIN:VCALENDAR
VERSION:2.0
PRODID:-//wp-events-plugin.com//7.2.3.1//EN
TZID:Europe/Berlin
X-WR-TIMEZONE:Europe/Berlin
BEGIN:VEVENT
UID:164@asv-greifswald.de
DTSTART;TZID=Europe/Berlin:20250611T173000
DTEND;TZID=Europe/Berlin:20250611T200000
DTSTAMP:20250508T081748Z
URL:https://asv-greifswald.de/events/mittwochsregatta-2-2025-06-11/
SUMMARY:Mittwochsregatta
DESCRIPTION:scharfer Start\, kleiner Kurs R oder L\n\nAnkündigung Gruppe 1
  um 18:05\, Start Gruppe 1 um 18:10 = Ankündigung für Gruppe 2\, Start G
 ruppe 2 um 18:15\n\n&nbsp\;\n\nWeitere Informationen\, Ausschreibung\, Kur
 se\, Anmeldung und Ergebnisse unter www.mittwochsregatta-greifswald.de 
LOCATION:Dänische Wiek\, Wieck\, Greifswald\, Deutschland
X-APPLE-STRUCTURED-LOCATION;VALUE=URI;X-ADDRESS=Wieck\, Greifswald\, Deutsc
 hland;X-APPLE-RADIUS=100;X-TITLE=Dänische Wiek:geo:0,0
END:VEVENT
BEGIN:VTIMEZONE
TZID:Europe/Berlin
X-LIC-LOCATION:Europe/Berlin
BEGIN:DAYLIGHT
DTSTART:20250330T030000
TZOFFSETFROM:+0100
TZOFFSETTO:+0200
TZNAME:CEST
END:DAYLIGHT
END:VTIMEZONE
END:VCALENDAR