BEGIN:VCALENDAR
VERSION:2.0
PRODID:-//wp-events-plugin.com//7.2.3.1//EN
TZID:Europe/Berlin
X-WR-TIMEZONE:Europe/Berlin
BEGIN:VEVENT
UID:99@asv-greifswald.de
DTSTART;TZID=Europe/Berlin:20240419T193000
DTEND;TZID=Europe/Berlin:20240419T210000
DTSTAMP:20240219T230632Z
URL:https://asv-greifswald.de/events/mitgliederversammlung/
SUMMARY:Mitgliederversammlung
DESCRIPTION:Mitgliederversammlung vor dem Abslippen\n\nTagesordnung:\n\n 	I
 nformationen zum Abslippen\n 	Termine 2024\n 	Sonstiges\n
CATEGORIES:Versammlungen
LOCATION:Schilfhaus\, Yachtweg 4\, Greifswald\, Deutschland
X-APPLE-STRUCTURED-LOCATION;VALUE=URI;X-ADDRESS=Yachtweg 4\, Greifswald\, D
 eutschland;X-APPLE-RADIUS=100;X-TITLE=Schilfhaus:geo:0,0
END:VEVENT
BEGIN:VTIMEZONE
TZID:Europe/Berlin
X-LIC-LOCATION:Europe/Berlin
BEGIN:DAYLIGHT
DTSTART:20240331T030000
TZOFFSETFROM:+0100
TZOFFSETTO:+0200
TZNAME:CEST
END:DAYLIGHT
END:VTIMEZONE
END:VCALENDAR