BEGIN:VCALENDAR
VERSION:2.0
PRODID:-//wp-events-plugin.com//7.2.3.1//EN
TZID:Europe/Berlin
X-WR-TIMEZONE:Europe/Berlin
BEGIN:VEVENT
UID:358@asv-greifswald.de
DTSTART;TZID=Europe/Berlin:20261030T193000
DTEND;TZID=Europe/Berlin:20261030T210000
DTSTAMP:20260304T150101Z
URL:https://asv-greifswald.de/events/mitgliederversammlung-7/
SUMMARY:Mitgliederversammlung
DESCRIPTION:Mitgliederversammlung mit Informationen aus dem Vorstand\, dem 
 Vereinsleben und zum Slippen\, sowie Termine der Wintersaison.\n\nAußerde
 m kann bereits für den kommenden Tag die Krangebühr (30€/Hub) gezahlt 
 und der Versicherungsnachweis vorgelegt werden.
ATTACH;FMTTYPE=image/jpeg:https://asv-greifswald.de/wp-content/uploads/202
 5/11/Mitgliederversammlung-2.png
CATEGORIES:Versammlungen
LOCATION:Schilfhaus\, Yachtweg 4\, Greifswald\, Deutschland
X-APPLE-STRUCTURED-LOCATION;VALUE=URI;X-ADDRESS=Yachtweg 4\, Greifswald\, D
 eutschland;X-APPLE-RADIUS=100;X-TITLE=Schilfhaus:geo:0,0
END:VEVENT
BEGIN:VTIMEZONE
TZID:Europe/Berlin
X-LIC-LOCATION:Europe/Berlin
BEGIN:STANDARD
DTSTART:20261025T020000
TZOFFSETFROM:+0200
TZOFFSETTO:+0100
TZNAME:CET
END:STANDARD
END:VTIMEZONE
END:VCALENDAR