BEGIN:VCALENDAR
VERSION:2.0
PRODID:-//wp-events-plugin.com//7.2.3.1//EN
TZID:Europe/Berlin
X-WR-TIMEZONE:Europe/Berlin
BEGIN:VEVENT
UID:210@asv-greifswald.de
DTSTART;TZID=Europe/Berlin:20260424T193000
DTEND;TZID=Europe/Berlin:20260424T220000
DTSTAMP:20260311T095305Z
URL:https://asv-greifswald.de/events/mitgliederversammlung-6/
SUMMARY:Mitgliederversammlung
DESCRIPTION:Mitgliederversammlung mit Informationen aus dem Vorstand\, dem 
 Vereinsleben und zum Slippen\, sowie Termine der Saison.\n\nAußerdem kann
  bereits für den kommenden Tag die Krangebühr (30€/Hub) gezahlt und de
 r Versicherungsnachweis vorgelegt werden.\n
ATTACH;FMTTYPE=image/jpeg:https://asv-greifswald.de/wp-content/uploads/202
 5/11/Mitgliederversammlung-2.png
CATEGORIES:Versammlungen
LOCATION:Schilfhaus\, Yachtweg 4\, Greifswald\, Deutschland
X-APPLE-STRUCTURED-LOCATION;VALUE=URI;X-ADDRESS=Yachtweg 4\, Greifswald\, D
 eutschland;X-APPLE-RADIUS=100;X-TITLE=Schilfhaus:geo:0,0
END:VEVENT
BEGIN:VTIMEZONE
TZID:Europe/Berlin
X-LIC-LOCATION:Europe/Berlin
BEGIN:DAYLIGHT
DTSTART:20260329T030000
TZOFFSETFROM:+0100
TZOFFSETTO:+0200
TZNAME:CEST
END:DAYLIGHT
END:VTIMEZONE
END:VCALENDAR