BEGIN:VCALENDAR
VERSION:2.0
PRODID:-//wp-events-plugin.com//7.2.3.1//EN
TZID:Europe/Berlin
X-WR-TIMEZONE:Europe/Berlin
BEGIN:VEVENT
UID:187@asv-greifswald.de
DTSTART;TZID=Europe/Berlin:20241107T193000
DTEND;TZID=Europe/Berlin:20241107T210000
DTSTAMP:20250905T205331Z
URL:https://asv-greifswald.de/events/mitgliederversammlung-4/
SUMMARY:Mitgliederversammlung
DESCRIPTION:Mitgliederversammlung vor dem Aufslippen\n\nTagesordnung:\n\n 	
 Informationen zum Aufslippen\n 	Informationen zur Abrechnung der Arbeitsst
 unden und Seemeilen\n 	Abstimmung zur neuen Satzung\n 	Termine für die Wi
 ntersaison\n 	Sonstiges\n
CATEGORIES:Versammlungen
LOCATION:Schilfhaus\, Yachtweg 4\, Greifswald\, Deutschland
X-APPLE-STRUCTURED-LOCATION;VALUE=URI;X-ADDRESS=Yachtweg 4\, Greifswald\, D
 eutschland;X-APPLE-RADIUS=100;X-TITLE=Schilfhaus:geo:0,0
END:VEVENT
BEGIN:VTIMEZONE
TZID:Europe/Berlin
X-LIC-LOCATION:Europe/Berlin
BEGIN:STANDARD
DTSTART:20241027T020000
TZOFFSETFROM:+0200
TZOFFSETTO:+0100
TZNAME:CET
END:STANDARD
END:VTIMEZONE
END:VCALENDAR