BEGIN:VCALENDAR
VERSION:2.0
PRODID:-//wp-events-plugin.com//7.2.3.1//EN
TZID:Europe/Berlin
X-WR-TIMEZONE:Europe/Berlin
BEGIN:VEVENT
UID:150@asv-greifswald.de
DTSTART;TZID=Europe/Berlin:20250425T193000
DTEND;TZID=Europe/Berlin:20250425T210000
DTSTAMP:20250309T213110Z
URL:https://asv-greifswald.de/events/mitgliederversammlung-3/
SUMMARY:Mitgliederversammlung
DESCRIPTION:Neben Informationen aus dem Vorstand dem Vereinsleben und zum S
 lippen wird bei dieser Zusammenkunft der aktuelle Stand zur Satzungsänder
 ung vorgestellt und kann diskutiert werden.\n\n&nbsp\;\n\nAußerdem kann b
 ereits für den kommenden Tag die Krangebühr (30€/Hub) gezahlt und der 
 Versicherungsnachweis vorgelegt werden.\n\n&nbsp\;\n\n&nbsp\;
CATEGORIES:ASV,Versammlungen
LOCATION:Schilfhaus\, Yachtweg 4\, Greifswald\, Deutschland
X-APPLE-STRUCTURED-LOCATION;VALUE=URI;X-ADDRESS=Yachtweg 4\, Greifswald\, D
 eutschland;X-APPLE-RADIUS=100;X-TITLE=Schilfhaus:geo:0,0
END:VEVENT
BEGIN:VTIMEZONE
TZID:Europe/Berlin
X-LIC-LOCATION:Europe/Berlin
BEGIN:DAYLIGHT
DTSTART:20250330T030000
TZOFFSETFROM:+0100
TZOFFSETTO:+0200
TZNAME:CEST
END:DAYLIGHT
END:VTIMEZONE
END:VCALENDAR