BEGIN:VCALENDAR
VERSION:2.0
PRODID:-//wp-events-plugin.com//7.2.3.1//EN
TZID:Europe/Berlin
X-WR-TIMEZONE:Europe/Berlin
BEGIN:VEVENT
UID:130@asv-greifswald.de
DTSTART;TZID=Europe/Berlin:20241025T193000
DTEND;TZID=Europe/Berlin:20241025T210000
DTSTAMP:20241021T172559Z
URL:https://asv-greifswald.de/events/mitgliederversammlung-2/
SUMMARY:Mitgliederversammlung
DESCRIPTION:Mitgliederversammlung vor dem Aufslippen. Themen werden der Abl
 auf des Slippens\, Aktuelles aus dem Vorstand und der Veranstaltungsplan f
 ür die Wintersaison sein. Alle Mitglieder sind herzlich in das Kaminzimme
 r im Schilfhaus eingeladen.
CATEGORIES:ASV,Versammlungen
LOCATION:Schilfhaus\, Yachtweg 4\, Greifswald\, Deutschland
X-APPLE-STRUCTURED-LOCATION;VALUE=URI;X-ADDRESS=Yachtweg 4\, Greifswald\, D
 eutschland;X-APPLE-RADIUS=100;X-TITLE=Schilfhaus:geo:0,0
END:VEVENT
BEGIN:VTIMEZONE
TZID:Europe/Berlin
X-LIC-LOCATION:Europe/Berlin
BEGIN:DAYLIGHT
DTSTART:20240331T030000
TZOFFSETFROM:+0100
TZOFFSETTO:+0200
TZNAME:CEST
END:DAYLIGHT
END:VTIMEZONE
END:VCALENDAR