BEGIN:VCALENDAR
VERSION:2.0
PRODID:-//wp-events-plugin.com//7.2.3.1//EN
TZID:Europe/Berlin
X-WR-TIMEZONE:Europe/Berlin
BEGIN:VEVENT
UID:191@asv-greifswald.de
DTSTART;TZID=Europe/Berlin:20251007T150000
DTEND;TZID=Europe/Berlin:20251007T180000
DTSTAMP:20251005T215420Z
URL:https://asv-greifswald.de/events/markt-der-moeglichkeiten/
SUMMARY:Markt der Möglichkeiten
DESCRIPTION:Der ASV stellt sich vor: von 15 bis 18 Uhr findet ihr unsere St
 udierendenabteilung im Rahmen der Erstsemesterwoche auf dem "Markt der Mö
 glichkeiten" in der Mensa am Beitz-Platz.
CATEGORIES:ASV,Studierende
LOCATION:Mensa Am Beitz-Platz\, Walther-Rathenau-Straße 48\, Greifswald\, 
 17489\, Deutschland
X-APPLE-STRUCTURED-LOCATION;VALUE=URI;X-ADDRESS=Walther-Rathenau-Straße 48
 \, Greifswald\, 17489\, Deutschland;X-APPLE-RADIUS=100;X-TITLE=Mensa Am Be
 itz-Platz:geo:0,0
END:VEVENT
BEGIN:VTIMEZONE
TZID:Europe/Berlin
X-LIC-LOCATION:Europe/Berlin
BEGIN:DAYLIGHT
DTSTART:20250330T030000
TZOFFSETFROM:+0100
TZOFFSETTO:+0200
TZNAME:CEST
END:DAYLIGHT
END:VTIMEZONE
END:VCALENDAR