BEGIN:VCALENDAR
VERSION:2.0
PRODID:-//wp-events-plugin.com//7.2.3.1//EN
TZID:Europe/Berlin
X-WR-TIMEZONE:Europe/Berlin
BEGIN:VEVENT
UID:140@asv-greifswald.de
DTSTART;TZID=Europe/Berlin:20250113T190000
DTEND;TZID=Europe/Berlin:20250113T210000
DTSTAMP:20241208T220226Z
URL:https://asv-greifswald.de/events/lasertag-turnier/
SUMMARY:Lasertag-Turnier
DESCRIPTION:Damit wir auch im Winter den Teamgeist stärken können\, wolle
 n wir euch am 13.01.25 um 19 Uhr im Paintballbunker zum Lasertagturnier ei
 nladen. Egal ob Anfänger oder Lasertag-Profi – jeder ist willkommen\, b
 eim Turnier um den Titel zu kämpfen und jede Menge Spaß zu haben! Vor Or
 t teilen wir euch in Teams ein\, wobei ihr eure Fähigkeiten unter Beweis 
 stellen könnt. Der Preis würde sich auf 15 Euro pro Person belaufen\, di
 e bitte vor Ort zu zahlen sind. Da nur maximal 28 Personen Platz in der Ha
 lle haben\, bitten wir euch um vorherige Anmeldung. Wir freuen uns auch eu
 ch!\n\nANMELDUNG Lasertag
CATEGORIES:Allgemein
LOCATION:Paintballbunker\, Am Gorzberg 19c\, Greifswald\, Deutschland
X-APPLE-STRUCTURED-LOCATION;VALUE=URI;X-ADDRESS=Am Gorzberg 19c\, Greifswal
 d\, Deutschland;X-APPLE-RADIUS=100;X-TITLE=Paintballbunker:geo:0,0
END:VEVENT
BEGIN:VTIMEZONE
TZID:Europe/Berlin
X-LIC-LOCATION:Europe/Berlin
BEGIN:STANDARD
DTSTART:20241027T020000
TZOFFSETFROM:+0200
TZOFFSETTO:+0100
TZNAME:CET
END:STANDARD
END:VTIMEZONE
END:VCALENDAR