BEGIN:VCALENDAR
VERSION:2.0
PRODID:-//wp-events-plugin.com//7.2.3.1//EN
TZID:Europe/Berlin
X-WR-TIMEZONE:Europe/Berlin
BEGIN:VEVENT
UID:93@asv-greifswald.de
DTSTART;TZID=Europe/Berlin:20240907T090000
DTEND;TZID=Europe/Berlin:20240908T090000
DTSTAMP:20240128T182424Z
URL:https://asv-greifswald.de/events/landesjugendmeisterschaft/
SUMMARY:Landesjugendmeisterschaft
DESCRIPTION:Greifswalder Jugendregatta in den Klassen Optimist\, ILCA\, 420
 er\, 29er...\n\nDie GJA verwandelt das Südufer des Ryck in ein quirliges 
 Seglerdorf.\n\nWeitere Infos folgen.
CATEGORIES:Regatta
LOCATION:Schilfhaus\, Yachtweg 4\, Greifswald\, Deutschland
X-APPLE-STRUCTURED-LOCATION;VALUE=URI;X-ADDRESS=Yachtweg 4\, Greifswald\, D
 eutschland;X-APPLE-RADIUS=100;X-TITLE=Schilfhaus:geo:0,0
END:VEVENT
BEGIN:VTIMEZONE
TZID:Europe/Berlin
X-LIC-LOCATION:Europe/Berlin
BEGIN:DAYLIGHT
DTSTART:20240331T030000
TZOFFSETFROM:+0100
TZOFFSETTO:+0200
TZNAME:CEST
END:DAYLIGHT
END:VTIMEZONE
END:VCALENDAR