BEGIN:VCALENDAR
VERSION:2.0
PRODID:-//wp-events-plugin.com//7.2.3.1//EN
TZID:Europe/Berlin
X-WR-TIMEZONE:Europe/Berlin
BEGIN:VEVENT
UID:147@asv-greifswald.de
DTSTART;TZID=Europe/Berlin:20250228T160000
DTEND;TZID=Europe/Berlin:20250228T200000
DTSTAMP:20250213T192637Z
URL:https://asv-greifswald.de/events/kohltour/
SUMMARY:Kohltour
DESCRIPTION:Beginn 16 Uhr im Kaminzimmer des GYC. Geplant ist\, etwa eine S
 tunde durch Eldena zu Boßeln\, danach ab etwa 17:30 Uhr Grünkohl und Zub
 ehör.\n\nAuf Wunsch wird es auch vegetarischen Grünkohl geben.\n\nDie Ko
 sten für Essen\, Getränke und Raummiete wird unter allen Teilnehmern gle
 ichermaßen aufgeteilt\, wir rechnen mit ca. 5-10€ Teilnahmebeitrag pro 
 Person.\n\nAnmeldung bis zum 21.02.2025 bei Jan Richters (jp.richters@goog
 lemail.com)
CATEGORIES:Allgemein,ASV
LOCATION:Schilfhaus\, Yachtweg 4\, Greifswald\, Deutschland
X-APPLE-STRUCTURED-LOCATION;VALUE=URI;X-ADDRESS=Yachtweg 4\, Greifswald\, D
 eutschland;X-APPLE-RADIUS=100;X-TITLE=Schilfhaus:geo:0,0
END:VEVENT
BEGIN:VTIMEZONE
TZID:Europe/Berlin
X-LIC-LOCATION:Europe/Berlin
BEGIN:STANDARD
DTSTART:20241027T020000
TZOFFSETFROM:+0200
TZOFFSETTO:+0100
TZNAME:CET
END:STANDARD
END:VTIMEZONE
END:VCALENDAR