BEGIN:VCALENDAR
VERSION:2.0
PRODID:-//wp-events-plugin.com//7.2.3.1//EN
TZID:Europe/Berlin
X-WR-TIMEZONE:Europe/Berlin
BEGIN:VEVENT
UID:105@asv-greifswald.de
DTSTART;TZID=Europe/Berlin:20240426T180000
DTEND;TZID=Europe/Berlin:20240426T220000
DTSTAMP:20240423T205323Z
URL:https://asv-greifswald.de/events/kennenlernen-grillen/
SUMMARY:Kennenlern-Grillen
DESCRIPTION:Zwangloses Grill-Event an der Bootshalle für alle\, die den AS
 V und seine Studierendenabteilung kennen lernen möchten. Alle sind herzli
 ch willkommen.
ATTACH;FMTTYPE=image/jpeg:https://asv-greifswald.de/wp-content/uploads/202
 4/04/PHOTO-2024-04-23-13-44-54.jpg
CATEGORIES:Studierende
LOCATION:ASV Bootshalle\, Yachtweg 6\, Greifswald\, Deutschland
X-APPLE-STRUCTURED-LOCATION;VALUE=URI;X-ADDRESS=Yachtweg 6\, Greifswald\, D
 eutschland;X-APPLE-RADIUS=100;X-TITLE=ASV Bootshalle:geo:0,0
END:VEVENT
BEGIN:VTIMEZONE
TZID:Europe/Berlin
X-LIC-LOCATION:Europe/Berlin
BEGIN:DAYLIGHT
DTSTART:20240331T030000
TZOFFSETFROM:+0100
TZOFFSETTO:+0200
TZNAME:CEST
END:DAYLIGHT
END:VTIMEZONE
END:VCALENDAR