BEGIN:VCALENDAR
VERSION:2.0
PRODID:-//wp-events-plugin.com//7.2.3.1//EN
TZID:Europe/Berlin
X-WR-TIMEZONE:Europe/Berlin
BEGIN:VEVENT
UID:155@asv-greifswald.de
DTSTART;TZID=Europe/Berlin;VALUE=DATE:20250529
DTEND;TZID=Europe/Berlin;VALUE=DATE:20250602
DTSTAMP:20250505T215233Z
URL:https://asv-greifswald.de/events/jollenwochenende/
SUMMARY:Jollenwochenende
DESCRIPTION:Vom 29. Mai bis 1. Juni besuchen uns in diesen Jahr wieder Mi
 tglieder des Berliner ASV mit ihren Jollen. Schon im letzten Jahr haben wi
 r zu dieser Zeit gemeinsam den Bodden unsicher gemacht\, die Nachmittage i
 n der Sonne verbracht und die Abende in geselliger Runde ausklingen lassen
 . Es war wirklich ein sehr schönes Event\, bei dem auch die nächsten Seg
 elreisen geplant wurden. Auch wir wollen wieder mit unseren Jollen daran t
 eilnehmen. Falls ihr also an diesem Wochenende noch nicht verplant seid\, 
 dann kommt unbedingt beim ASV vorbei. Zur Not einfach den Menschen mit Neo
 prenanzügen folgen oder in  der WhatsApp-Gruppe der Jollensegler mitlese
 n.
CATEGORIES:Allgemein,ASV,Studierende
LOCATION:ASV Bootshalle\, Yachtweg 6\, Greifswald\, Deutschland
X-APPLE-STRUCTURED-LOCATION;VALUE=URI;X-ADDRESS=Yachtweg 6\, Greifswald\, D
 eutschland;X-APPLE-RADIUS=100;X-TITLE=ASV Bootshalle:geo:0,0
END:VEVENT
BEGIN:VTIMEZONE
TZID:Europe/Berlin
X-LIC-LOCATION:Europe/Berlin
BEGIN:DAYLIGHT
DTSTART:20250330T030000
TZOFFSETFROM:+0100
TZOFFSETTO:+0200
TZNAME:CEST
END:DAYLIGHT
END:VTIMEZONE
END:VCALENDAR