BEGIN:VCALENDAR
VERSION:2.0
PRODID:-//wp-events-plugin.com//7.2.3.1//EN
TZID:Europe/Berlin
X-WR-TIMEZONE:Europe/Berlin
BEGIN:VEVENT
UID:361@asv-greifswald.de
DTSTART;TZID=Europe/Berlin:20260415T193000
DTEND;TZID=Europe/Berlin:20260415T213000
DTSTAMP:20260304T151846Z
URL:https://asv-greifswald.de/events/jollenvortrag/
SUMMARY:Jollenvortrag
DESCRIPTION:Eric Hofmann möchte uns auf die neue Saison mit einem Vortrag 
 über das Jollensegeln einstimmen. Wie funktioniert überhaupt Jollensegel
 n? Wie wird eine Jolle segelbereit gemacht? Gibt es besondere Regatta- und
  Segelregeln\, die wir beachten müssen? Außerdem werden weitere Pläne f
 ür die Jollenabteilung vorgestellt. Getränke und Snacks gibt es von uns 
 gegen eine kleine Spende. Wir freuen uns auf euch!
CATEGORIES:Allgemein
LOCATION:Schilfhaus\, Yachtweg 4\, Greifswald\, Deutschland
X-APPLE-STRUCTURED-LOCATION;VALUE=URI;X-ADDRESS=Yachtweg 4\, Greifswald\, D
 eutschland;X-APPLE-RADIUS=100;X-TITLE=Schilfhaus:geo:0,0
END:VEVENT
BEGIN:VTIMEZONE
TZID:Europe/Berlin
X-LIC-LOCATION:Europe/Berlin
BEGIN:DAYLIGHT
DTSTART:20260329T030000
TZOFFSETFROM:+0100
TZOFFSETTO:+0200
TZNAME:CEST
END:DAYLIGHT
END:VTIMEZONE
END:VCALENDAR