BEGIN:VCALENDAR
VERSION:2.0
PRODID:-//wp-events-plugin.com//7.2.3.1//EN
TZID:Europe/Berlin
X-WR-TIMEZONE:Europe/Berlin
BEGIN:VEVENT
UID:181@asv-greifswald.de
DTSTART;TZID=Europe/Berlin:20250626T163000
DTEND;TZID=Europe/Berlin:20250626T193000
DTSTAMP:20250612T172418Z
URL:https://asv-greifswald.de/events/jollentreff-2025-06-26/
SUMMARY:Jollentreff
DESCRIPTION:Jeden Donnerstag ab 16:30Uhr treffen sich alle jolleninteressie
 rten Segler des Vereins an der ASV-Halle zur gemeinsamen Trainingsausfahrt
  auf den Vereins- aber auch privaten Jollen. Bei schlechtem Wetter wird ge
 meinsam an den Booten gebastelt und optimiert.\n\nKontakt zu den Jollenseg
 lern des ASV erhaltet ihr unter jollenwart@asv-greifswald.de oder in der W
 hatsApp-Untergruppe des ASV-WhatsApp-Kanals.
CATEGORIES:ASV,Studierende
LOCATION:ASV Bootshalle\, Yachtweg 6\, Greifswald\, Deutschland
X-APPLE-STRUCTURED-LOCATION;VALUE=URI;X-ADDRESS=Yachtweg 6\, Greifswald\, D
 eutschland;X-APPLE-RADIUS=100;X-TITLE=ASV Bootshalle:geo:0,0
END:VEVENT
BEGIN:VTIMEZONE
TZID:Europe/Berlin
X-LIC-LOCATION:Europe/Berlin
BEGIN:DAYLIGHT
DTSTART:20250330T030000
TZOFFSETFROM:+0100
TZOFFSETTO:+0200
TZNAME:CEST
END:DAYLIGHT
END:VTIMEZONE
END:VCALENDAR