BEGIN:VCALENDAR
VERSION:2.0
PRODID:-//wp-events-plugin.com//7.2.3.1//EN
TZID:Europe/Berlin
X-WR-TIMEZONE:Europe/Berlin
BEGIN:VEVENT
UID:200@asv-greifswald.de
DTSTART;TZID=Europe/Berlin:20251128T193000
DTEND;TZID=Europe/Berlin:20251128T220000
DTSTAMP:20251110T172533Z
URL:https://asv-greifswald.de/events/jhv-der-studierenden/
SUMMARY:JHV der Studierenden
DESCRIPTION:Am Freitag den 28.11. wollen wir um 19:30 Uhr im Schilfhaus u
 nsere studentische Jahreshauptversammlung veranstalten. Der Ort wird noch 
 zu einem späteren Zeitpunkt in der Whatsapp- und Signalgruppe bekannt geg
 eben. Dazu sind alle Vereinsmitglieder\, besonders aber die Studierenden u
 nter euch\, herzlich eingeladen. Wir wollen die Saison Revue passieren las
 sen\, uns von euch Feedback einholen\, was gut gelaufen ist und was wir ve
 rbessern können\, sowie euch einen Einblick in unser Winterprogramm geben
 . Dabei werden auch die Bootswarte zu Wort kommen und die geplanten Arbeit
 en an den Vereinsbooten vorstellen. Getränke gibt es vor Ort. Wir freuen 
 uns auf euch!
ATTACH;FMTTYPE=image/jpeg:https://asv-greifswald.de/wp-content/uploads/202
 5/11/Mitgliederversammlung-2.png
CATEGORIES:ASV,Studierende
LOCATION:Schilfhaus\, Yachtweg 4\, Greifswald\, Deutschland
X-APPLE-STRUCTURED-LOCATION;VALUE=URI;X-ADDRESS=Yachtweg 4\, Greifswald\, D
 eutschland;X-APPLE-RADIUS=100;X-TITLE=Schilfhaus:geo:0,0
END:VEVENT
BEGIN:VTIMEZONE
TZID:Europe/Berlin
X-LIC-LOCATION:Europe/Berlin
BEGIN:STANDARD
DTSTART:20251026T020000
TZOFFSETFROM:+0200
TZOFFSETTO:+0100
TZNAME:CET
END:STANDARD
END:VTIMEZONE
END:VCALENDAR