BEGIN:VCALENDAR
VERSION:2.0
PRODID:-//wp-events-plugin.com//7.2.3.1//EN
TZID:Europe/Berlin
X-WR-TIMEZONE:Europe/Berlin
BEGIN:VEVENT
UID:26@asv-greifswald.de
DTSTART;TZID=Europe/Berlin:20240126T193000
DTEND;TZID=Europe/Berlin:20240126T230000
DTSTAMP:20231130T000552Z
URL:https://asv-greifswald.de/events/jahreshauptversammlung/
SUMMARY:Jahreshauptversammlung
DESCRIPTION:Unsere Jahreshauptversammlung findet in diesem Jahr wieder Ende
  Januar statt. Der Saal im Schilfhaus ist bereits gebucht und somit ist au
 ch für Getränke gesorgt.\n\nIn diesem Jahr steht wieder die Wahl des Vor
 standes auf der Tagesordnung. Wer sich im Vorstand einbringen möchte\, m
 öge vorab Kontakt zum aktuellen Vorstand aufnehmen.\n\n\nDie schriftliche
  Einladung geht allen Mitgliedern per Post zu.
CATEGORIES:Versammlungen
LOCATION:Schilfhaus\, Yachtweg 4\, Greifswald\, Deutschland
X-APPLE-STRUCTURED-LOCATION;VALUE=URI;X-ADDRESS=Yachtweg 4\, Greifswald\, D
 eutschland;X-APPLE-RADIUS=100;X-TITLE=Schilfhaus:geo:0,0
END:VEVENT
BEGIN:VTIMEZONE
TZID:Europe/Berlin
X-LIC-LOCATION:Europe/Berlin
BEGIN:STANDARD
DTSTART:20231029T020000
TZOFFSETFROM:+0200
TZOFFSETTO:+0100
TZNAME:CET
END:STANDARD
END:VTIMEZONE
END:VCALENDAR