BEGIN:VCALENDAR
VERSION:2.0
PRODID:-//wp-events-plugin.com//7.2.3.1//EN
TZID:Europe/Berlin
X-WR-TIMEZONE:Europe/Berlin
BEGIN:VEVENT
UID:144@asv-greifswald.de
DTSTART;TZID=Europe/Berlin:20250123T200000
DTEND;TZID=Europe/Berlin:20250123T233000
DTSTAMP:20250101T143543Z
URL:https://asv-greifswald.de/events/grog-knoten/
SUMMARY:Grog & Knoten
DESCRIPTION:Am 23.01. um 20 Uhr wollen wir uns im Kommraum treffen und bei
  Grog und netten Gesprächen (oder Milch und Keksen\, falls bevorzugt) Sof
 tschäkel knoten\, immer paarweise\, einen für den Verein\, einen für eu
 ch selbst. Je nach euren Wünschen können wir z.B. auch Spleißen üben. 
 Know-how und Werkzeug ist vor Ort und wird gerne weitergegeben!
CATEGORIES:Studierende
LOCATION:Kommunikationsraum\, Yachtweg 6\, Greifswald\, Deutschland
X-APPLE-STRUCTURED-LOCATION;VALUE=URI;X-ADDRESS=Yachtweg 6\, Greifswald\, D
 eutschland;X-APPLE-RADIUS=100;X-TITLE=Kommunikationsraum:geo:0,0
END:VEVENT
BEGIN:VTIMEZONE
TZID:Europe/Berlin
X-LIC-LOCATION:Europe/Berlin
BEGIN:STANDARD
DTSTART:20241027T020000
TZOFFSETFROM:+0200
TZOFFSETTO:+0100
TZNAME:CET
END:STANDARD
END:VTIMEZONE
END:VCALENDAR