BEGIN:VCALENDAR
VERSION:2.0
PRODID:-//wp-events-plugin.com//7.2.3.1//EN
TZID:Europe/Berlin
X-WR-TIMEZONE:Europe/Berlin
BEGIN:VEVENT
UID:139@asv-greifswald.de
DTSTART;TZID=Europe/Berlin:20241218T180000
DTEND;TZID=Europe/Berlin:20241218T200000
DTSTAMP:20241208T215158Z
URL:https://asv-greifswald.de/events/gluehweinregatta/
SUMMARY:Glühweinregatta
DESCRIPTION:Mittwochabend = Regattazeit. Analog zum Sommer treffen wir uns 
 um 18 Uhr vor der Sparkasse am Markt\, um unsere Kreise um die Glühweinst
 ände zu ziehen. Alle sind herzlich eingeladen\, sich anzuschließen. Aber
  Achtung: die Ziellinie wird um 20 Uhr geschlossen \;-)
ATTACH;FMTTYPE=image/jpeg:https://asv-greifswald.de/wp-content/uploads/202
 4/12/IMG_0291-scaled-e1733694700657.jpg
CATEGORIES:Allgemein
LOCATION:Weihnachtsmarkt\, Am Markt\, Greifswald\, Deutschland
X-APPLE-STRUCTURED-LOCATION;VALUE=URI;X-ADDRESS=Am Markt\, Greifswald\, Deu
 tschland;X-APPLE-RADIUS=100;X-TITLE=Weihnachtsmarkt:geo:0,0
END:VEVENT
BEGIN:VTIMEZONE
TZID:Europe/Berlin
X-LIC-LOCATION:Europe/Berlin
BEGIN:STANDARD
DTSTART:20241027T020000
TZOFFSETFROM:+0200
TZOFFSETTO:+0100
TZNAME:CET
END:STANDARD
END:VTIMEZONE
END:VCALENDAR