BEGIN:VCALENDAR
VERSION:2.0
PRODID:-//wp-events-plugin.com//7.2.3.1//EN
TZID:Europe/Berlin
X-WR-TIMEZONE:Europe/Berlin
BEGIN:VEVENT
UID:98@asv-greifswald.de
DTSTART;TZID=Europe/Berlin:20240325T100000
DTEND;TZID=Europe/Berlin:20240325T100000
DTSTAMP:20240219T223016Z
URL:https://asv-greifswald.de/events/fuehrung-kkw-block-6/
SUMMARY:Führung KKW Block 6
DESCRIPTION:Die Führung durch den ehemaligen Block 6 des KKW in Lubmin sta
 rtet exklusiv für den ASV um 10 Uhr. Die Teilnehmerzahl ist durch den Ver
 anstalter auf 15 begrenzt. Da die Teilnehmer namentlich angemeldet werden 
 müssen\, bitten wir um eine verbindliche Anmeldung bis zum 18.03.24.\n\nZ
 ur Führung muss ein Ausweisdokument mitgeführt werden\, sonst ist der Ei
 nlass nicht möglich. Bitte feste Schuhe anziehen. Der Besuch im KKW ist k
 ostenlos.\n\nVerbindliche Anmeldung und Absprachen zu Fahrgemeinschaften b
 itte per Mail bei den Studis.\n\n&nbsp\;
ATTACH;FMTTYPE=image/jpeg:https://asv-greifswald.de/wp-content/uploads/202
 4/02/PHOTO-2024-02-14-13-25-55.jpg
CATEGORIES:Allgemein
LOCATION:KKW Lubmin\, Latzower Str. 1\, 17509 Lubmin\, Deutschland
X-APPLE-STRUCTURED-LOCATION;VALUE=URI;X-ADDRESS=Latzower Str. 1\, 17509 Lub
 min\, Deutschland;X-APPLE-RADIUS=100;X-TITLE=KKW Lubmin:geo:0,0
END:VEVENT
BEGIN:VTIMEZONE
TZID:Europe/Berlin
X-LIC-LOCATION:Europe/Berlin
BEGIN:STANDARD
DTSTART:20231029T020000
TZOFFSETFROM:+0200
TZOFFSETTO:+0100
TZNAME:CET
END:STANDARD
END:VTIMEZONE
END:VCALENDAR