BEGIN:VCALENDAR
VERSION:2.0
PRODID:-//wp-events-plugin.com//7.2.3.1//EN
TZID:Europe/Berlin
X-WR-TIMEZONE:Europe/Berlin
BEGIN:VEVENT
UID:141@asv-greifswald.de
DTSTART;TZID=Europe/Berlin:20250121T160000
DTEND;TZID=Europe/Berlin:20250121T173000
DTSTAMP:20241208T221239Z
URL:https://asv-greifswald.de/events/fuehrung-ipp-wendelstein-7-x/
SUMMARY:Führung IPP Wendelstein 7-X
DESCRIPTION:Am 21.01.25 um 16 Uhr haben wir die Möglichkeit\, das Institut
  für Plasmaphysik von innen zu besichtigen und einen einmaligen Einblick 
 in die Fusionsanlage Wendelstein 7-X zu erhalten. Da die Gruppengröße au
 f 15 Personen begrenzt ist\, tragt euch schnell in die Liste ein\, damit i
 hr noch einen Platz bekommt.\n\nANMELDUNG IPP-Führung
LOCATION:IPP\, Wendelsteinstr. 1\, Greifswald\, Deutschland
X-APPLE-STRUCTURED-LOCATION;VALUE=URI;X-ADDRESS=Wendelsteinstr. 1\, Greifsw
 ald\, Deutschland;X-APPLE-RADIUS=100;X-TITLE=IPP:geo:0,0
END:VEVENT
BEGIN:VTIMEZONE
TZID:Europe/Berlin
X-LIC-LOCATION:Europe/Berlin
BEGIN:STANDARD
DTSTART:20241027T020000
TZOFFSETFROM:+0200
TZOFFSETTO:+0100
TZNAME:CET
END:STANDARD
END:VTIMEZONE
END:VCALENDAR