BEGIN:VCALENDAR
VERSION:2.0
PRODID:-//wp-events-plugin.com//7.2.3.1//EN
TZID:Europe/Berlin
X-WR-TIMEZONE:Europe/Berlin
BEGIN:VEVENT
UID:101@asv-greifswald.de
DTSTART;TZID=Europe/Berlin:20240323T080000
DTEND;TZID=Europe/Berlin:20240323T120000
DTSTAMP:20240303T135527Z
URL:https://asv-greifswald.de/events/fruehjahrsputz/
SUMMARY:Frühjahrsputz
DESCRIPTION:Auch in diesem Jahr gibt es wieder die Aktion "Greifswald räum
 t auf". Beteiligt Euch gerne rund um den Yachtweg\, die Südmole oder dire
 kt vor Eurer Haustür\, um Greifswald ein bisschen sauberer und noch leben
 swerter zu machen. Die nächstgelegenen Sammelstellen findet Ihr am Parkpl
 atz des Strandbades und auf dem Dorfplatz Wieck. Weitere Infos und Sammels
 tellen HIER.
ATTACH;FMTTYPE=image/jpeg:https://asv-greifswald.de/wp-content/uploads/202
 4/03/stadtmarketing_aktionstag2024_2000x2000-1.jpg
END:VEVENT
BEGIN:VTIMEZONE
TZID:Europe/Berlin
X-LIC-LOCATION:Europe/Berlin
BEGIN:STANDARD
DTSTART:20231029T020000
TZOFFSETFROM:+0200
TZOFFSETTO:+0100
TZNAME:CET
END:STANDARD
END:VTIMEZONE
END:VCALENDAR